BEGIN:VCALENDAR
VERSION:2.0
PRODID:-//HFP Racing - ECPv6.15.20//NONSGML v1.0//EN
CALSCALE:GREGORIAN
METHOD:PUBLISH
X-ORIGINAL-URL:https://hfpracing.com
X-WR-CALDESC:Events for HFP Racing
REFRESH-INTERVAL;VALUE=DURATION:PT1H
X-Robots-Tag:noindex
X-PUBLISHED-TTL:PT1H
BEGIN:VTIMEZONE
TZID:America/New_York
BEGIN:DAYLIGHT
TZOFFSETFROM:-0500
TZOFFSETTO:-0400
TZNAME:EDT
DTSTART:20240310T070000
END:DAYLIGHT
BEGIN:STANDARD
TZOFFSETFROM:-0400
TZOFFSETTO:-0500
TZNAME:EST
DTSTART:20241103T060000
END:STANDARD
BEGIN:DAYLIGHT
TZOFFSETFROM:-0500
TZOFFSETTO:-0400
TZNAME:EDT
DTSTART:20250309T070000
END:DAYLIGHT
BEGIN:STANDARD
TZOFFSETFROM:-0400
TZOFFSETTO:-0500
TZNAME:EST
DTSTART:20251102T060000
END:STANDARD
BEGIN:DAYLIGHT
TZOFFSETFROM:-0500
TZOFFSETTO:-0400
TZNAME:EDT
DTSTART:20260308T070000
END:DAYLIGHT
BEGIN:STANDARD
TZOFFSETFROM:-0400
TZOFFSETTO:-0500
TZNAME:EST
DTSTART:20261101T060000
END:STANDARD
END:VTIMEZONE
BEGIN:VEVENT
DTSTART;VALUE=DATE:20251004
DTEND;VALUE=DATE:20251005
DTSTAMP:20260423T122713
CREATED:20241207T131424Z
LAST-MODIFIED:20251006T133139Z
UID:7526-1759536000-1759622399@hfpracing.com
SUMMARY:The Dirty Yeti Gravel Triathlon\, Duathlon\, Aquabike
DESCRIPTION:[vc_section css=”.vc_custom_1514401728916{margin-bottom: 2em !important;padding-right: 1em !important;padding-left: 1em !important;}”][vc_row css=”.vc_custom_1514348192475{margin-top: -35px !important;margin-bottom: 50px !important;}”][vc_column css=”.vc_custom_1636547484215{margin-top: 1em !important;}”][vc_column_text css=”.vc_custom_1713302744116{margin-top: 2em !important;}”] \nThe Ohio Dirt & Gravel Series –\n[/vc_column_text][/vc_column][/vc_row][vc_row][vc_column width=”1/3″][vc_single_image source=”featured_image” img_size=”medium” alignment=”center” css_animation=”bounceInDown”][/vc_column][vc_column width=”1/3″][vc_column_text css=”.vc_custom_1759757435366{margin-bottom: 30px !important;}” el_class=”race-header”] \nTHE DIRTY YETI GRAVEL TRIATHLON\, DUATHLON & AQUABIKE\nOctober 4\, 2025\n– The Dirty Yeti Triathlon\, Duathlon & Aquabike\, part of the 2025 USA Triathlon Cross & Gravel Series is the perfect end of the year event for the beginner and seasoned off-road and adventure athlete. The Dirty Yeti features two distances that will test all levels and abilities.  The event takes place at Salt Fork State Park and features a calm swim in its’ pristine reservoir\, and a rolling terrain of the bike course across the valleys of Salt Fork. Then you will finish your adventure with a challenging 3.8 mile single track run along side the reservoir and through the forest of Salt Fork.  Dirty Yeti – Short is a beginner-friendly l-lap experience while Dirty Yeti – Long is a 2-lap experience for those looking for a greater endurance challenge. This is the perfect off-road adventure. The course is designed so that you will have fun and be challenged. \nThis is Ohio’s only gravel triathlon\, duathlon and aquabike. Take part this unique\, fun event! \nParticipation is limited to 150 participants.   \n \n“Skip the Tee\, Plant a Tree” Program \nWe can live without a t-shirt\, but we can’t live without trees. This year\, when you register for our multisport races and certain trail runs at Ohio State Parks\, you will have the option to select “Tree” over a “T-shirt size.” \nWhen you select “Tree\,” instead of a t-shirt\, we will donate the cost of your t-shirt to the Ohio State Park Foundation. \n \n[/vc_column_text][vc_row_inner][vc_column_inner width=”1/2″][vc_btn title=”Register for the Race” style=”custom” custom_background=”#da0d2d” custom_text=”#ffffff” shape=”round” css=”” link=”url:https%3A%2F%2Ftriregistration.com%2Freg2%2FRace.php%3Feventid%3D3605|title:Register%20-%20Dirty%20Yeti%20Triathlon|target:_blank”][vc_btn title=”Volunteer” style=”custom” custom_background=”#0e45ed” custom_text=”#ffffff” shape=”round” link=”url:https%3A%2F%2Fwww.signupgenius.com%2Fgo%2F10C0F45AFA728ABFDC16-49167832-thedirty|title:Register%20to%20Volunteer%20Dirty%20Yeti|target:_blank”][/vc_column_inner][vc_column_inner width=”1/2″][/vc_column_inner][/vc_row_inner][/vc_column][vc_column width=”1/3″][vc_column_text el_class=”red-text”] \nUPCOMING RACES:\n[/vc_column_text][/vc_column][/vc_row][/vc_section][vc_row css=”.vc_custom_1611427455411{margin-bottom: 40px !important;}”][vc_column][vc_tta_tabs active_section=”1″ css=”.vc_custom_1513965732993{margin-top: 30px !important;}”][vc_tta_section title=”Details” tab_id=”1513960008422-26187c41-82ce0b42-ac00″][vc_column_text css=”.vc_custom_1758580155088{padding-top: 1em !important;padding-right: 2em !important;padding-left: 2em !important;}”]RACE PACKET PICK-UP.  See Packet pick-up tab.  There is NO RACE DAY REGISTRATION — packet pickup ONLY \nAWARDS\nAll finishers will receive a handsome finisher amenity. \n\nTop 3 Male\, Female\, & Non-Binary OVERALL FINISHERS in the Short Yeti and Long Yeti triathlons and duathlons will receive a commemorative award.\nTOP OVERALL Division FINISHER (1st Place) in each AGE GROUP – Male & Female in the Short Yeti and long Yeti triathlons will receive an award commemorating their finish (No division awards in the Duathlon).\nTOP FINISHER (1st Place) in Clydesdale\, Athena\, and First Responder divisions will receive a commemorative award.\nTop OVERALL Relay team in each Yeti distance will receive a commemorative award.\nTop OVERALL Male and Female Finisher in the short Yeti and Long Yeti Aquabike.\n\n[/vc_column_text][vc_column_text css=”.vc_custom_1758580089297{padding-top: 1em !important;padding-right: 2em !important;padding-left: 2em !important;}”] \nRace Distances\n\nShort Yeti Triathlon: 250m Swim – 14 mi gravel Bike – 3.8 mile trail run\nShort Yeti Duathlon: 1 mi trail Run – 14 mi gravel Bike – 3.8 mile trail run\nLong Yeti Triathlon: 500m Swim – 28 mile gravel Bike – 7.6 mile trail run\nLong Yeti  Duathlon: 1 mile trail run – 28 mile gravel Bike – 7.6 mile trail run\nYeti Aquabike Distances are identical to the selected triathlon distance for swim and bike (Ex/Sprint Aquabike 250m swim+14 mile bike)\n\n[/vc_column_text][vc_column_text css=”.vc_custom_1713377256155{margin-bottom: 2em !important;padding-top: 1em !important;padding-right: 2em !important;padding-left: 2em !important;}”] \nRelays\nFor those who prefer to race one element of the triathlon or duathlon we offer a relay division for the short and long  distance triathlons and duathlons. Relay teams consist of three (3) members (1 swimmer\, 1 biker\, 1 runner)\, each member will complete one segment of the race (2 members for duathlon teams).  Each team member will exchange their timing chip bracelet at their assigned bike rack. There are NO age groups in this division.[/vc_column_text][vc_separator][vc_row_inner][vc_column_inner][/vc_column_inner][/vc_row_inner][/vc_tta_section][vc_tta_section title=”Packet Pick-up” tab_id=”1634618711492-1e308028-a2cf”][vc_column_text css=””]Packet Pick Up – Race Day Only \n1. Date: Saturday\nTime: 7:00 am – 8:15 am\nLocation:  Salt Fork State Park – Beach Parking Area\nPre-Race Meeting: Approximately 8:00 am \nRace Site Address: 14755 Cadiz Rd\nLore City\, Ohio 43755 \nPlease Note: All participants must collect his/ her own event packet. Photo ID is required in order to collect event materials. NO ID = NO EVENT.  HINT if you take a photo of your ID with your phone\, that will be sufficient for photo ID purposes.  \nCourse Overview: Before each swim wave and the Duathlon\, the starter will briefly go over the course. We are always available for questions\, there will not be time for extensive Q&A before the race so we encourage you to review all race information on the website.[/vc_column_text][/vc_tta_section][vc_tta_section title=”Pricing” tab_id=”1513960008288-e119bfa5-6a840b42-ac00″][vc_column_text]\n\n\n\n	RaceThru  6/307/1 - 8/319/1 - Event Day\n\n\n\n\n	Dirty Yeti Short (Solo)$65$85$105\n\n\n	Dirty Yeti Long (Solo)$85$105$125\n\n\n	Dirty Yeti Short (Relay)$150$200$250\n\n\n	Dirty Yeti Long (Relay)$200$250$300\n\n\n\n[/vc_column_text][vc_row_inner][vc_column_inner][vc_btn title=”Register for the Race” style=”custom” custom_background=”#da0d2d” custom_text=”#ffffff” shape=”round” align=”center” css=”.vc_custom_1733578216474{margin-bottom: 2em !important;}” link=”url:https%3A%2F%2Ftriregistration.com%2Freg2%2FRace.php%3Feventid%3D3605|title:Register%20-%20Dirty%20Yeti%20Triathlon|target:_blank”][/vc_column_inner][/vc_row_inner][vc_column_text css=”.vc_custom_1713361165590{margin-bottom: 2em !important;padding-right: 2em !important;padding-left: 2em !important;}” el_class=”centerThis”]* Prices above reflect cost for USAT Annual Members and all participants MUST have a valid USAT license (annual or one-day).\nIf you are not a USAT member\, adults may purchase a one-day membership for the event  or an annual membership. Youth (17 & under) may purchase an annual membership \n  \nREGISTRATION NOTES\n\nRegistration fees are non-refundable and non-transferable.\nFees listed above do not include the online TriRegistration processing fee.\nThere is NO RACE DAY REGISTRATION.\nUSA Triathlon Rule 3.2a. All age group athletes must participate and compete in the age group division corresponding to the athlete’s age on December 31 of the year of the event.\nIf using a discount or sale code\, only one code can be used per transaction.\n\n\nRACE PACKETS\nOfficial Race T-shirt (if registered at least 20 days prior to event date)\, Goodie Bag\, Post Race Food & Beverages\, and ALL finishers will receive a handsome Finishers Medal (including all relay team members). \nDownload the T-Shirt Sizing Chart here[/vc_column_text][/vc_tta_section][vc_tta_section title=”Schedule” tab_id=”1513960110938-b153fedd-fbe40b42-ac00″][vc_column_text el_class=”no-heading”]Dirty Yeti Times\n\n\n\n\n	Saturday\, October 4Saturday\, October 4\n\n\n\n\n	6:45 am - Check-in Begins8:15 am Check-in Ends\n\n\n	6:45 am Transition Opens8:15 am Transition Closes\n\n\n	8:30 am– Dirty Yeti Long1:00 pm - Dirty Yeti Long Course Close\n\n\n	8:55 am - Dirty Yeti Short1:00 pm Dirty Yeti Short Course Close\n\n\n\n\n[/vc_column_text][/vc_tta_section][vc_tta_section title=”Rules and Regulations” tab_id=”1513960133019-0ebfa2bc-2a790b42-ac00″][vc_column_text css=”.vc_custom_1703439196197{margin-bottom: 2em !important;padding-top: 1em !important;padding-right: 2em !important;padding-left: 2em !important;}” el_class=”no-heading”] \nUSA Triathlon Sanctioning\n\nAll HFP Racing multisport events are USA Triathlon sanctioned.\nUSAT’s Most Commonly Violated Rules: If you are new to the sport or are wondering why you got a penalty at your last race\,\nread USAT’s most commonly violated rules. After each event in our series that has an USAT Official present we will post the Official USAT Referee’s Report on the Results Page for that event.\nNeed to print a USAT membership card? Click HERE.\n\nUSAT Age-Up Policy\nHow the “Aging Up” situation will be handled for those people changing age groups during the course of the year:\nHFP Racing’s series scoring coincides with the USAT “aging up” policy. Participants will compete in whichever age group they would be in as of the 31st of December in the year of the race.  In other words\, everyone’s age group for the current season will be determined by their age on December 31st of the year they are racing. \nExample: Jane Smith is 34 during the entire racing season\, but turns 35 on Dec. 15th of that year. Jane will then compete in the 35-39 age group for the entire season for all events. \nUSAT Wetsuit Rules\nAll HFP Racing Series events will follow the wetsuit guidelines set forth by USA Triathlon. Those guidelines state: \n\nUSAT rules state that competitors may wear wetsuits if the water temperature is 78 degrees or lower.\nUSAT rules also state that if the water temperature is between 78.1 – 83.9 degrees\, competitors may wear wetsuits but will not be eligible for awards. HFP Racing Series will have a separate category for those who choose to wear a wetsuit in this temperature range. Those athletes who choose to wear a wetsuit will not be reflected in the overall results.\nIf the water temperature is 84 degrees or above\, participants may NOT wear wetsuits.\n\nExpected water temperatures will be posted via our Twitter feed page 12-24 hrs. before each event.  Average water temperature for Deer Creek reservoir in September has been 75 degrees.[/vc_column_text][vc_btn title=”See The Race Rules” style=”custom” custom_background=”#da0d2d” custom_text=”#ffffff” shape=”round” align=”center” css=”.vc_custom_1516424422294{margin-bottom: 2em !important;}” link=”url:https%3A%2F%2Fhfpracing.com%2Frace-rules%2F||target:%20_blank|”][/vc_tta_section][vc_tta_section title=”Travel & Lodging” tab_id=”1634618773186-351e54ae-b9c5″][vc_column_text] \nLodging\nComing in the weekend of the event? Make it a family affair and stay at the Salt Fork Lodge and Conference Center.  From Golf\, hiking\, canoeing to many more onsite activities there is something for the entire family. \nVisit Salt Fork Park Lodge for details and reservations. \nTravel\nThe event site is the Salt Fork State Park Beach\, 14755 Cadiz Rd\, Lore City\, OH 43755[/vc_column_text][/vc_tta_section][vc_tta_section title=”Athlete Information” tab_id=”1634618866702-e70f4806-6c7d”][vc_column_text css=””] \nRace Information\n\nIs this your first race? Welcome to the sport and the HFP Racing community!\nAll athletes receive a great race\, a super comfy race shirt\, finisher’s medal\, post race food/drink\, high-fives and sore muscles!\nRace categories available for this race are Age Group\, Aquabike (swim-bike-done!)\, Clydesdale\, Athena and Relay Teams.\nAll HFP Racing races are USA Triathlon sanctioned events. You’ll be included in their National Ranking as well as support the US Olympic Team.\nAll HFP Racing race registrations are non-refundable. Race registration insurance is available during the registration process.\nAll registered athletes will receive an email on the Wednesday or Thursday before the race with all the information pertaining to their entry to include any last minute details to make your race weekend go smoothly!\nSpectators – We love when family and friends cheer you on! You’ll watch your athlete start & finish the Swim/Bike/Run and hug them at the finish line!\n\nParking Information\nAthlete and spectator parking is located at the main beach parking lots. However\, once the event begins no vehicles will be permitted to leave the parking area until the last bike re-enters the park or law enforcement allows vehicles to exit. \nIf you or family members must leave before the last bike re-enters the park\, please park in the overflow lot – 1st road to your right when you enter the park. No parking in the grass. \nRace Number & Sticker Kits\nThe race number you receive at packet pickup should be worn during the bike and run portion of the event. This will help identify who is participating in the event and also will help identify you to volunteers\, team members\, other athletes and emergency personnel. \nYou will receive a sticker kit containing 3 numbers that match your race number. Each sticker has a purpose – 1 sticker is for your bike\, 1 sticker is for your bike helmet\, and 3rd sticker (if available) is for your gear bag (only applicable in a two-transition event). \nTiming Chips\nAll events produced and timed by HFP Racing are timed with Race Results Chip Equipment. Please take a moment to familiarize yourself with the following procedures to insure successful timing of your event: \n\nAll participants will receive their Timing Chip at packet pick up (athlete check-in). You are REQUIRED to show your paper Bib number in order to receive you timing chip.  Our Volunteers are human so please double check that your timing chip number matched your bib number.\nAlong with the timing chip participants will receive a Velcro ankle strap. For those participants who have their own neoprene strap they may use that for holding the timing chip.\nRelay Teams will exchange their timing chip at their bike rack located in the transition area (swimmer to biker and biker to runner).\nIt is REQUIRED that all participants wear the timing chip on their LEFT ankle.\n\nHow to wear the timing chip with the provided neoprene Velcro strap: \n\nThread the loose strap through the timing chip and securely fasten the Velcro\nThe chip should be in a small “pocket” on the chip strap.\nPlace the strap around your LEFT ankle\nGive the chip a firm pull\, it should remain securely fastened\nDouble check that strap is fastened correctly and securely as loss of timing chip will results in a bill of $35\n\nREMEMBER\, YOU MUST RETURN YOUR CHIP AT THE FINISH LINE. YOU CANNOT USE THIS CHIP AT OTHER RACES. \nIF YOU ARE NOT ABLE TO FINISH ANY LEG OF THE RACE YOU MUST TURN IN YOUR TIMING CHIP BEFORE CROSSING OVER ANY ADDITIONAL TIMING MATS. IN THIS EVENT TAKE YOUR TIMING CHIP TO THE TIMING CHIP COLLECTION AREA NEAR THE FINISH LINE AND INFORM THEM OF YOUR DECISION. \nYou will be assessed a $35 charge for your chip if not returned. \nTransition Area\nTriathletes may enter the transition area at the posted start time of race morning packet pick-up. All bikes must be racked 15-minutes before the start of the first swim wave. Bike racks are identified by distance and triathletes must put their bicycles and gear in their designated bicycle location. \nEach bike rack can hold 4 bikes\, as such each athletes space is approximately 3 feet wide and 3 feet long. Once your bike is in place your space left for use is approximately the same size as a standard bath towel. \nAfter racking your bike\, proceed to the athlete check-in area located near the transition area and obtain your race number\, timing chip\, etc.  Please body mark yourself at least 1/2 hour before the race. \nRules: \n\nBike storage will NOT be provided the night before the event.\nGlass containers are NOT allowed in the transition area.\nOnly triathletes and transition workers are allowed in the transition area. Please advise your family and friends that they will need to remain outside of the transition area.\nYou MUST rack your bike on race morning. First come first serve any rack that does not already have 4 bikes on it.\nParticipants will NOT be allowed to mount their bikes in the transition area and will be required to dismount at the designated spot outside the transition area.\nTriathletes must show their race number to remove their bicycle and gear from the transition area after the race.\n\nRace Flow \n\nSwim – When triathletes finish the swim portion of the race\, they will enter the transition area and proceed to their designated bicycle rack (relay teams make their exchange at their designated rack number). Each triathletes swim time will end when they cross the timing mat located near the swim exit. NOTE: DUATHLETES – when duathletes complete their 1st run they will enter transition and proceed to their designated bicycle rack to transition to the biking leg of the race.\nBike – Bikes may NOT be ridden in the transition area. It is important to use extreme caution when departing the transition area\, it is may be very congested! All athletes must put on their helmet and snap the strap before mounting their bike. The helmet on and buckled until they dismount and rack their bike. Not following the helmet rules may result in a disqualification (DQ). Bike times will start when athletes depart the transition area through the ‘Bike Out’ chute and end when they re-enter the transition area through the ‘Bike In’ chute in the transition area. Once the bike portion is completed\, athletes will return their bike to their designated spot in the transition area.\nRun – All athletes depart the transition area by exiting through the ‘Run Out’ chute. Athletes run time will begin when they depart the transition area at ‘Run Out’ and end when they cross the finish line.\n\nWater Temperature\, Swim Caps and Wetsuits\nThe top two questions we receive about our events is what is the water temperature and are wetsuits allowed. Since one answer usually answers the other the explanations for both are bundled together for you here. \nWater Temperature\nThe water temperature for each open water event is taken and posted on Twitter 24 hours before the posted packet pick-up time. This temperature reading is a preliminary reading. The official water temperature will be taken on race morning about 60-90 minutes prior to race start by the Race Director or the USAT official on site. \nSwim Caps \nAll triathlon and aquabike participants will be issued an official race swim cap that must be worn during the swim portion.  Swim caps are latex. If you have a latex allergy\, contact customerservice@hfpracing.com. We do have silicon caps available for individuals with latex allergies. \nWetsuits\nAs per USAT rules\, if the water temperature is 78 degrees Fahrenheit or below then wetsuits ARE allowed. At 78.1 to 83.9 degrees Fahrenheit participants may wear a wetsuit at their own discretion; however\, wearing a wetsuit in the temperature range will mean that the athletes are ineligible for awards and their results will be placed in the Wetsuit category section of the category results page. Your results will not be placed in the overall results as wearing a wetsuit is an unfair advantage.  At 84 degrees Fahrenheit and above wetsuits are NOT permitted at all – this is for your own safety.[/vc_column_text][/vc_tta_section][vc_tta_section title=”Volunteer” tab_id=”1634618960443-69bf1ea8-56fa”][vc_column_text]We pride ourselves on the success of our events to which none of it could be possible without the support of our amazing volunteers. \nHow to Become a Volunteer\n\nIt is simple. Find out more information on our volunteer page.  If you have any further questions please send an email to customerservice@hfpracing.com and let us know you wish to support the event! \nVolunteer as a Group\nHFP Racing events are a great opportunity to get your community group\, run club\, tri-club\, ANY group involved and volunteer together. We have many areas of the race that are perfect for groups from 5-15 people to volunteer together. Send us email at customerservice@hfpracing.com and let us know!\n\n\n[/vc_column_text][/vc_tta_section][/vc_tta_tabs][/vc_column][/vc_row][vc_section full_width=”stretch_row” el_class=”nrmg-feature-row” css=”.vc_custom_1611513121932{margin-bottom: 40px !important;}”][vc_row][vc_column][vc_column_text el_class=”nrmg-feature-header”] \nCOURSE MAPS\n[/vc_column_text][vc_tta_tabs][vc_tta_section title=”Dirty Yeti Short” tab_id=”1504818975218-84e53f94-fee397f3-31e896f5-48235136-ecee0b42-ac00″][vc_custom_heading text=”SPRINT TRIATHLON & DUATHLON” font_container=”tag:h4|text_align:left|color:%23ffffff” use_theme_fonts=”yes” css=”.vc_custom_1514399399033{margin-top: 0px !important;}” el_class=”tab-header”][vc_row_inner][vc_column_inner width=”2/3″][vc_column_text css_animation=”none” css=”.vc_custom_1758580340818{padding-right: 10px !important;padding-left: 10px !important;}”]The Dirty Yeti short distance triathlon features a 250 meter counter-clockwise rectangular swim\, while the duathletes are running an out & back 1 mile trail run\,  followed by a single loop 14 mile bike course through the rolling terrain of Salt Fork State Park and finishing with a 3.8 mile single track trail loop along side the Salt Fork Reservoir and forest of Salt Fork State Park. \nShort Distance – Interactive Swim Course – Click HERE \nShort Distance – Interactive Run Course – Click HERE \nShort Distance – Interactive Bike Course – Click HERE  \nClick an image to enlarge.[/vc_column_text][/vc_column_inner][vc_column_inner width=”1/3″][vc_gallery type=”image_grid” images=”7161\,7160\,7159″ img_size=”medium” css_animation=”flipInX” el_class=”centerThis”][/vc_column_inner][/vc_row_inner][/vc_tta_section][vc_tta_section title=”Dirty Yeti Long” tab_id=”1504818976589-d6f6c2f3-724597f3-31e896f5-48235136-ecee0b42-ac00″][vc_custom_heading text=”OLYMPIC TRIATHLON & DUATHLON” font_container=”tag:h4|text_align:left|color:%23ffffff” use_theme_fonts=”yes” el_class=”tab-header”][vc_row_inner][vc_column_inner width=”2/3″][vc_column_text css=”.vc_custom_1758580373110{padding-right: 10px !important;padding-left: 10px !important;}”]The Dirty Yeti long distance triathlon features a 500 meter counter-clockwise rectangular swim\, while the duathletes are running an out & back 1 mile trail run\,  followed by a 2-lap 28 mile bike course through the rolling terrain of Salt Fork State Park and finishing with a 2-lap 3.8 mile (7.6 miles) single track trail loop along side the Salt Fork Reservoir and forest of Salt Fork State Park. \nShort Distance – Interactive Swim Course – Click HERE \nShort Distance – Interactive Run Course – Click HERE \nShort Distance – Interactive Bike Course – Click HERE  \nClick an image to enlarge.[/vc_column_text][/vc_column_inner][vc_column_inner width=”1/3″][vc_gallery type=”image_grid” images=”7161\,7160\,7159″ img_size=”medium” css_animation=”flipInX” el_class=”centerThis”][/vc_column_inner][/vc_row_inner][/vc_tta_section][/vc_tta_tabs][/vc_column][/vc_row][/vc_section][vc_section full_width=”stretch_row” el_class=”nrmg-feature-row”][vc_row msp_template=”match-page-football-simple” css=”.vc_custom_1611427525831{margin-bottom: 40px !important;}” el_class=”venue-section”][vc_column][vc_column_text el_class=”nrmg-feature-header”] \nABOUT THE VENUE\n[/vc_column_text][vc_column_text css=”.vc_custom_1713360015184{padding-right: 20px !important;padding-left: 20px !important;}” el_class=”centerThis”] \nSalt Fork State Park\n14755 Cadiz Road\, Lore City\, OH 43755 | Website \nLocated in eastern Ohio\, Salt Fork State Park encompasses a stunning landscape featuring forested hills\, open meadows\, and misty valleys decorated with winding streams. With thousands and thousands of acres of land and water\, the park has something for every outdoor enthusiast. Boaters will appreciate the park’s two marinas and eight launch ramps; hikers will be challenged by a trail system that offers a variety of lengths and levels of difficulty; history buffs can visit the historic Kennedy Stone House; and golfers will enjoy the top-rated 18-hole golf course. Overnight accommodations include a full-service resort lodge\, deluxe vacation cabins\, and a large campground. \nJoin us for an early Fall  weekend of October at the Dirty Yeti Gravel Race! End your racing season on a high note at this outstanding athlete-friendly event.[/vc_column_text][vc_gmaps link=”#E-8_JTNDaWZyYW1lJTIwc3JjJTNEJTIyaHR0cHMlM0ElMkYlMkZ3d3cuZ29vZ2xlLmNvbSUyRm1hcHMlMkZlbWJlZCUzRnBiJTNEJTIxMW0xNCUyMTFtOCUyMTFtMyUyMTFkMjg5NDUuNTIzMzQzNzI5MDUlMjEyZC04My4yNTA5NDk4JTIxM2QzOS42NDYwNzU3JTIxM20yJTIxMWkxMDI0JTIxMmk3NjglMjE0ZjEzLjElMjEzbTMlMjExbTIlMjExczB4MCUyNTNBMHhhODRjMGY0OTQ3YzRhMjBkJTIxMnNQYXJrJTI1MjBPZmZpY2UlMjE1ZTElMjEzbTIlMjExc2VuJTIxMnN1cyUyMTR2MTYyMTQ1NTkwNzY3NiUyMTVtMiUyMTFzZW4lMjEyc3VzJTIyJTIwd2lkdGglM0QlMjI2MDAlMjIlMjBoZWlnaHQlM0QlMjI0NTAlMjIlMjBzdHlsZSUzRCUyMmJvcmRlciUzQTAlM0IlMjIlMjBhbGxvd2Z1bGxzY3JlZW4lM0QlMjIlMjIlMjBsb2FkaW5nJTNEJTIybGF6eSUyMiUzRSUzQyUyRmlmcmFtZSUzRQ==” size=”300px”][/vc_column][/vc_row][/vc_section][vc_section full_width=”stretch_row” el_class=”nrmg-feature-row”][vc_row el_class=”text-header”][vc_column][vc_column_text el_class=”nrmg-feature-header”] \nIMAGE GALLERY\n[/vc_column_text][vc_media_grid style=”load-more” items_per_page=”8″ element_width=”3″ btn_style=”custom” btn_custom_background=”#d11e29″ btn_custom_text=”#ffffff” grid_id=”vc_gid:1759757378024-c88e1de8-5d44-6″ include=”879\,883\,868\,886\,870\,893\,892\,869\,871\,878\,876\,875\,889\,891\,894\,897\,885\,880″][/vc_column][/vc_row][/vc_section]
URL:https://hfpracing.com/race/the-dirty-yeti-gravel-triathlon-duathlon-aquabike-2/
CATEGORIES:2025 Triathlons & Duathlons,Ohio Dirt & Gravel Series,Ohio Triathlon & Duathlon Series
ATTACH;FMTTYPE=image/jpeg:https://hfpracing.com/wp-content/uploads/2024/04/Dirty-Yeti-Dark-1.jpg
END:VEVENT
END:VCALENDAR